BEGIN:VCALENDAR
VERSION:2.0
PRODID:-//wp-events-plugin.com//7.2.3.1//EN
TZID:Europe/Vienna
X-WR-TIMEZONE:Europe/Vienna
BEGIN:VEVENT
UID:100@sdtriestingtal.at
DTSTART;TZID=Europe/Vienna:20250124T190000
DTEND;TZID=Europe/Vienna:20250125T010000
DTSTAMP:20250107T221354Z
URL:https://www.sdtriestingtal.at/events/20-no-problem-ball/
SUMMARY:20. No Problem Ball
DESCRIPTION:Einlass: 18:20\nEröffnung: 19:00\n\nTanzeinlage: Back to Love 
 um 20:15
CATEGORIES:Auftritt
LOCATION:Congress Casino Baden\, Kaiser-Franz-Ring 1\, Baden\, Niederöster
 reich\, 2500\, Österreich
GEO:48.0102731;16.23219549999999
X-APPLE-STRUCTURED-LOCATION;VALUE=URI;X-ADDRESS=Kaiser-Franz-Ring 1\, Baden
 \, Niederösterreich\, 2500\, Österreich;X-APPLE-RADIUS=100;X-TITLE=Congr
 ess Casino Baden:geo:48.0102731,16.23219549999999
END:VEVENT
BEGIN:VTIMEZONE
TZID:Europe/Vienna
X-LIC-LOCATION:Europe/Vienna
BEGIN:STANDARD
DTSTART:20241027T020000
TZOFFSETFROM:+0200
TZOFFSETTO:+0100
TZNAME:CET
END:STANDARD
END:VTIMEZONE
END:VCALENDAR