BEGIN:VCALENDAR
VERSION:2.0
PRODID:-//wp-events-plugin.com//7.2.3.1//EN
TZID:Europe/Vienna
X-WR-TIMEZONE:Europe/Vienna
BEGIN:VEVENT
UID:93@sdtriestingtal.at
DTSTART;TZID=Europe/Vienna:20250118T190000
DTEND;TZID=Europe/Vienna:20250119T030000
DTSTAMP:20250117T094033Z
URL:https://www.sdtriestingtal.at/events/arbeiterball-felixdorf-2025/
SUMMARY:Arbeiterball Felixdorf 2025
DESCRIPTION:Einlass: 19:00\nBeginn: 20:00\n\nTanzeinlage: Eröffnung Back t
 o Love um 20:00
CATEGORIES:Auftritt
LOCATION:Kulturhaus Felixdorf\, Schulstraße 4\, Felixdorf\, Niederösterre
 ich\, 2603 \, Österreich
GEO:47.8809252;16.2423857
X-APPLE-STRUCTURED-LOCATION;VALUE=URI;X-ADDRESS=Schulstraße 4\, Felixdorf\
 , Niederösterreich\, 2603 \, Österreich;X-APPLE-RADIUS=100;X-TITLE=Kultu
 rhaus Felixdorf:geo:47.8809252,16.2423857
END:VEVENT
BEGIN:VTIMEZONE
TZID:Europe/Vienna
X-LIC-LOCATION:Europe/Vienna
BEGIN:STANDARD
DTSTART:20241027T020000
TZOFFSETFROM:+0200
TZOFFSETTO:+0100
TZNAME:CET
END:STANDARD
END:VTIMEZONE
END:VCALENDAR