BEGIN:VCALENDAR
VERSION:2.0
PRODID:-//wp-events-plugin.com//7.2.3.1//EN
TZID:Europe/Vienna
X-WR-TIMEZONE:Europe/Vienna
BEGIN:VEVENT
UID:103@sdtriestingtal.at
DTSTART;TZID=Europe/Vienna:20250111T183000
DTEND;TZID=Europe/Vienna:20250112T030000
DTSTAMP:20250107T220925Z
URL:https://www.sdtriestingtal.at/events/berndorfer-stadtball-2025/
SUMMARY:Berndorfer Stadtball 2025
DESCRIPTION:Einlass: 18:30\nBeginn: 20:30\n\nTanzeinlage: Mitternachtseinla
 ge Back to Love
CATEGORIES:Auftritt
LOCATION:Stadtsaal Berndorf\, Hainfelderstraße 38a\, Berndorf\, Niederöst
 erreich\, 2560\, Österreich
GEO:47.9498068;16.105721300000027
X-APPLE-STRUCTURED-LOCATION;VALUE=URI;X-ADDRESS=Hainfelderstraße 38a\, Ber
 ndorf\, Niederösterreich\, 2560\, Österreich;X-APPLE-RADIUS=100;X-TITLE=
 Stadtsaal Berndorf:geo:47.9498068,16.105721300000027
END:VEVENT
BEGIN:VTIMEZONE
TZID:Europe/Vienna
X-LIC-LOCATION:Europe/Vienna
BEGIN:STANDARD
DTSTART:20241027T020000
TZOFFSETFROM:+0200
TZOFFSETTO:+0100
TZNAME:CET
END:STANDARD
END:VTIMEZONE
END:VCALENDAR