BEGIN:VCALENDAR
VERSION:2.0
PRODID:-//wp-events-plugin.com//7.2.3.1//EN
TZID:Europe/Vienna
X-WR-TIMEZONE:Europe/Vienna
BEGIN:VEVENT
UID:87@sdtriestingtal.at
DTSTART;TZID=Europe/Vienna:20240316T190000
DTEND;TZID=Europe/Vienna:20240317T030000
DTSTAMP:20240305T213723Z
URL:https://www.sdtriestingtal.at/events/ff-ball-leobersdorf-2024/
SUMMARY:FF Ball Leobersdorf 2024
DESCRIPTION:Einlass: 19:00\nBeginn: 20:00\n\nTanzeinlage: Mitternachtseinla
 ge Survivor
CATEGORIES:Auftritt
LOCATION:Eventcenter Leobersdorf\, Färbergasse 9\, Leobersdorf \, Niederö
 sterreich \, 2544\, Österreich
GEO:47.9277829;16.2182593
X-APPLE-STRUCTURED-LOCATION;VALUE=URI;X-ADDRESS=Färbergasse 9\, Leobersdor
 f \, Niederösterreich \, 2544\, Österreich;X-APPLE-RADIUS=100;X-TITLE=Ev
 entcenter Leobersdorf:geo:47.9277829,16.2182593
END:VEVENT
BEGIN:VTIMEZONE
TZID:Europe/Vienna
X-LIC-LOCATION:Europe/Vienna
BEGIN:STANDARD
DTSTART:20231029T020000
TZOFFSETFROM:+0200
TZOFFSETTO:+0100
TZNAME:CET
END:STANDARD
END:VTIMEZONE
END:VCALENDAR