BEGIN:VCALENDAR
VERSION:2.0
PRODID:-//wp-events-plugin.com//7.2.3.1//EN
TZID:Europe/Vienna
X-WR-TIMEZONE:Europe/Vienna
BEGIN:VEVENT
UID:96@sdtriestingtal.at
DTSTART;TZID=Europe/Vienna:20250315T190000
DTEND;TZID=Europe/Vienna:20250316T030000
DTSTAMP:20250107T222555Z
URL:https://www.sdtriestingtal.at/events/ff-ball-leobersdorf-2025/
SUMMARY:FF Ball Leobersdorf 2025
DESCRIPTION:Einlass: 19:00\nBeginn: 20:00\n\nTanzeinlage: Mitternachtseinla
 ge Back to Love
CATEGORIES:Auftritt
LOCATION:Eventcenter Leobersdorf\, Färbergasse 9\, Leobersdorf \, Niederö
 sterreich \, 2544\, Österreich
GEO:47.9277829;16.2182593
X-APPLE-STRUCTURED-LOCATION;VALUE=URI;X-ADDRESS=Färbergasse 9\, Leobersdor
 f \, Niederösterreich \, 2544\, Österreich;X-APPLE-RADIUS=100;X-TITLE=Ev
 entcenter Leobersdorf:geo:47.9277829,16.2182593
END:VEVENT
BEGIN:VTIMEZONE
TZID:Europe/Vienna
X-LIC-LOCATION:Europe/Vienna
BEGIN:STANDARD
DTSTART:20241027T020000
TZOFFSETFROM:+0200
TZOFFSETTO:+0100
TZNAME:CET
END:STANDARD
END:VTIMEZONE
END:VCALENDAR