BEGIN:VCALENDAR
VERSION:2.0
PRODID:-//wp-events-plugin.com//7.2.3.1//EN
TZID:Europe/Vienna
X-WR-TIMEZONE:Europe/Vienna
BEGIN:VEVENT
UID:104@sdtriestingtal.at
DTSTART;TZID=Europe/Vienna:20250125T200000
DTEND;TZID=Europe/Vienna:20250126T030000
DTSTAMP:20250107T223148Z
URL:https://www.sdtriestingtal.at/events/ff-ball-oberwaltersdorf-2025/
SUMMARY:FF Ball Oberwaltersdorf 2025
DESCRIPTION:Beginn: 12:00\n\nTanzeinlage: Mitternachtseinlage Back to Love
CATEGORIES:Auftritt
LOCATION:Bruno - Brunn am Gebirge\, Franz Weiss Platz 7\, Brunn am Gebirge\
 , Niederösterreich\, 2345\, Österreich
GEO:48.107176;16.283139
X-APPLE-STRUCTURED-LOCATION;VALUE=URI;X-ADDRESS=Franz Weiss Platz 7\, Brunn
  am Gebirge\, Niederösterreich\, 2345\, Österreich;X-APPLE-RADIUS=100;X-
 TITLE=Bruno - Brunn am Gebirge:geo:48.107176,16.283139
END:VEVENT
BEGIN:VTIMEZONE
TZID:Europe/Vienna
X-LIC-LOCATION:Europe/Vienna
BEGIN:STANDARD
DTSTART:20241027T020000
TZOFFSETFROM:+0200
TZOFFSETTO:+0100
TZNAME:CET
END:STANDARD
END:VTIMEZONE
END:VCALENDAR