BEGIN:VCALENDAR
VERSION:2.0
PRODID:-//wp-events-plugin.com//7.2.3.1//EN
TZID:Europe/Vienna
X-WR-TIMEZONE:Europe/Vienna
BEGIN:VEVENT
UID:85@sdtriestingtal.at
DTSTART;TZID=Europe/Vienna:20240203T190000
DTEND;TZID=Europe/Vienna:20240204T040000
DTSTAMP:20240108T202513Z
URL:https://www.sdtriestingtal.at/events/ff-ball-tribuswinkel-2024/
SUMMARY:FF Ball Tribuswinkel 2024
DESCRIPTION:Einlass: 19:30\nBeginn: 20:00\n\nTanzeinlage: Eröffnung Surviv
 or um 20:00 und Mitternachtseinlage eines befreundeten Profi Solo Paars
CATEGORIES:Auftritt
LOCATION:Leopold-Fuhrmann-Saal\, Kirchenplatz 8\, Tribuswinkel\, Niederöst
 erreich\, 2512\, Österreich
GEO:48.0061589;16.270362400000067
X-APPLE-STRUCTURED-LOCATION;VALUE=URI;X-ADDRESS=Kirchenplatz 8\, Tribuswink
 el\, Niederösterreich\, 2512\, Österreich;X-APPLE-RADIUS=100;X-TITLE=Leo
 pold-Fuhrmann-Saal:geo:48.0061589,16.270362400000067
END:VEVENT
BEGIN:VTIMEZONE
TZID:Europe/Vienna
X-LIC-LOCATION:Europe/Vienna
BEGIN:STANDARD
DTSTART:20231029T020000
TZOFFSETFROM:+0200
TZOFFSETTO:+0100
TZNAME:CET
END:STANDARD
END:VTIMEZONE
END:VCALENDAR