BEGIN:VCALENDAR
VERSION:2.0
PRODID:-//wp-events-plugin.com//7.2.3.1//EN
TZID:Europe/Vienna
X-WR-TIMEZONE:Europe/Vienna
BEGIN:VEVENT
UID:110@sdtriestingtal.at
DTSTART;TZID=Europe/Vienna:20260207T190000
DTEND;TZID=Europe/Vienna:20260208T040000
DTSTAMP:20260104T101312Z
URL:https://www.sdtriestingtal.at/events/ff-ball-tribuswinkel-2026/
SUMMARY:FF Ball Tribuswinkel 2026
DESCRIPTION:Einlass: 19:00\nBeginn: 20:30\n\nTanzeinlage: Eröffnung This i
 s me um 20:30 und Publikumsquadrille um Mitternacht
CATEGORIES:Auftritt
LOCATION:Leopold-Fuhrmann-Saal\, Kirchenplatz 8\, Tribuswinkel\, Niederöst
 erreich\, 2512\, Österreich
GEO:48.0061589;16.270362400000067
X-APPLE-STRUCTURED-LOCATION;VALUE=URI;X-ADDRESS=Kirchenplatz 8\, Tribuswink
 el\, Niederösterreich\, 2512\, Österreich;X-APPLE-RADIUS=100;X-TITLE=Leo
 pold-Fuhrmann-Saal:geo:48.0061589,16.270362400000067
END:VEVENT
BEGIN:VTIMEZONE
TZID:Europe/Vienna
X-LIC-LOCATION:Europe/Vienna
BEGIN:STANDARD
DTSTART:20251026T020000
TZOFFSETFROM:+0200
TZOFFSETTO:+0100
TZNAME:CET
END:STANDARD
END:VTIMEZONE
END:VCALENDAR