BEGIN:VCALENDAR
VERSION:2.0
PRODID:-//wp-events-plugin.com//7.2.3.1//EN
TZID:Europe/Vienna
X-WR-TIMEZONE:Europe/Vienna
BEGIN:VEVENT
UID:102@sdtriestingtal.at
DTSTART;TZID=Europe/Vienna:20250118T190000
DTEND;TZID=Europe/Vienna:20250119T030000
DTSTAMP:20250107T221108Z
URL:https://www.sdtriestingtal.at/events/gemeindeball-hirtenberg-2025/
SUMMARY:Gemeindeball Hirtenberg 2025
DESCRIPTION:Einlass: 19:00\nBeginn: 20:00\n\nTanzeinlage: Survivor um 22:00
  und Mitternachtseinlage Back to Love
CATEGORIES:Auftritt
LOCATION:Kulturhaus Hirtenberg\, Leobersdorfer Straße 2\, Hirtenberg\, Nie
 derösterreich\, 2552\, Österreich
GEO:47.9309386;16.176530299999968
X-APPLE-STRUCTURED-LOCATION;VALUE=URI;X-ADDRESS=Leobersdorfer Straße 2\, H
 irtenberg\, Niederösterreich\, 2552\, Österreich;X-APPLE-RADIUS=100;X-TI
 TLE=Kulturhaus Hirtenberg:geo:47.9309386,16.176530299999968
END:VEVENT
BEGIN:VTIMEZONE
TZID:Europe/Vienna
X-LIC-LOCATION:Europe/Vienna
BEGIN:STANDARD
DTSTART:20241027T020000
TZOFFSETFROM:+0200
TZOFFSETTO:+0100
TZNAME:CET
END:STANDARD
END:VTIMEZONE
END:VCALENDAR