BEGIN:VCALENDAR
VERSION:2.0
PRODID:-//wp-events-plugin.com//7.2.3.1//EN
TZID:Europe/Vienna
X-WR-TIMEZONE:Europe/Vienna
BEGIN:VEVENT
UID:91@sdtriestingtal.at
DTSTART;TZID=Europe/Vienna;VALUE=DATE:20240524
DTEND;TZID=Europe/Vienna;VALUE=DATE:20240525
DTSTAMP:20240305T211913Z
URL:https://www.sdtriestingtal.at/events/hlp-ball-moedling-2024/
SUMMARY:HLP Ball Mödling 2024
DESCRIPTION:Tanzeinlage: Survivor um 21:30
CATEGORIES:Auftritt
LOCATION:Bruno - Brunn am Gebirge\, Franz Weiss Platz 7\, Brunn am Gebirge\
 , Niederösterreich\, 2345\, Österreich
GEO:48.107176;16.283139
X-APPLE-STRUCTURED-LOCATION;VALUE=URI;X-ADDRESS=Franz Weiss Platz 7\, Brunn
  am Gebirge\, Niederösterreich\, 2345\, Österreich;X-APPLE-RADIUS=100;X-
 TITLE=Bruno - Brunn am Gebirge:geo:48.107176,16.283139
END:VEVENT
BEGIN:VTIMEZONE
TZID:Europe/Vienna
X-LIC-LOCATION:Europe/Vienna
BEGIN:DAYLIGHT
DTSTART:20240331T030000
TZOFFSETFROM:+0100
TZOFFSETTO:+0200
TZNAME:CEST
END:DAYLIGHT
END:VTIMEZONE
END:VCALENDAR