BEGIN:VCALENDAR
VERSION:2.0
PRODID:-//wp-events-plugin.com//7.2.3.1//EN
TZID:Europe/Vienna
X-WR-TIMEZONE:Europe/Vienna
BEGIN:VEVENT
UID:109@sdtriestingtal.at
DTSTART;TZID=Europe/Vienna:20260123T182000
DTEND;TZID=Europe/Vienna:20260124T010000
DTSTAMP:20260104T100131Z
URL:https://www.sdtriestingtal.at/events/no-problem-ball-2026/
SUMMARY:No Problem Ball 2026
DESCRIPTION:Einlass: 18:20\nEröffnung: 19:00\n\nTanzeinlage: This is me um
  20:00
CATEGORIES:Auftritt
LOCATION:Congress Casino Baden\, Kaiser-Franz-Ring 1\, Baden\, Niederöster
 reich\, 2500\, Österreich
GEO:48.0102731;16.23219549999999
X-APPLE-STRUCTURED-LOCATION;VALUE=URI;X-ADDRESS=Kaiser-Franz-Ring 1\, Baden
 \, Niederösterreich\, 2500\, Österreich;X-APPLE-RADIUS=100;X-TITLE=Congr
 ess Casino Baden:geo:48.0102731,16.23219549999999
END:VEVENT
BEGIN:VTIMEZONE
TZID:Europe/Vienna
X-LIC-LOCATION:Europe/Vienna
BEGIN:STANDARD
DTSTART:20251026T020000
TZOFFSETFROM:+0200
TZOFFSETTO:+0100
TZNAME:CET
END:STANDARD
END:VTIMEZONE
END:VCALENDAR