BEGIN:VCALENDAR
VERSION:2.0
PRODID:-//wp-events-plugin.com//7.2.3.1//EN
TZID:Europe/Vienna
X-WR-TIMEZONE:Europe/Vienna
BEGIN:VEVENT
UID:83@sdtriestingtal.at
DTSTART;TZID=Europe/Vienna:20240120T200000
DTEND;TZID=Europe/Vienna:20240121T030000
DTSTAMP:20240116T005106Z
URL:https://www.sdtriestingtal.at/events/oevp-ball-altenmarkt-2024/
SUMMARY:ÖVP Ball Altenmarkt 2024
DESCRIPTION:Beginn: 20:00\n\nTanzeinlage: Eröffnung Survivor um 20:30
CATEGORIES:Auftritt
LOCATION:Markgraf Leopold-Saal Klein-Mariazell\, Klein-Mariazell 1\, Altenm
 arkt\, Niederösterreich\, 2571\, Österreich
GEO:48.036479;15.974207
X-APPLE-STRUCTURED-LOCATION;VALUE=URI;X-ADDRESS=Klein-Mariazell 1\, Altenma
 rkt\, Niederösterreich\, 2571\, Österreich;X-APPLE-RADIUS=100;X-TITLE=Ma
 rkgraf Leopold-Saal Klein-Mariazell:geo:48.036479,15.974207
END:VEVENT
BEGIN:VTIMEZONE
TZID:Europe/Vienna
X-LIC-LOCATION:Europe/Vienna
BEGIN:STANDARD
DTSTART:20231029T020000
TZOFFSETFROM:+0200
TZOFFSETTO:+0100
TZNAME:CET
END:STANDARD
END:VTIMEZONE
END:VCALENDAR