BEGIN:VCALENDAR
VERSION:2.0
PRODID:-//wp-events-plugin.com//7.2.3.1//EN
TZID:Europe/Vienna
X-WR-TIMEZONE:Europe/Vienna
BEGIN:VEVENT
UID:92@sdtriestingtal.at
DTSTART;TZID=Europe/Vienna:20240413T190000
DTEND;TZID=Europe/Vienna:20240414T030000
DTSTAMP:20240319T201931Z
URL:https://www.sdtriestingtal.at/events/polizeiball-hirtenberg-2024/
SUMMARY:Polizeiball Hirtenberg 2024
DESCRIPTION:Einlass: 19:00\nBeginn: 20:00\n\nTanzeinlage: Eröffnung Surviv
 or\, Cher um 22:00
CATEGORIES:Auftritt
LOCATION:Kulturhaus Hirtenberg\, Leobersdorfer Straße 2\, Hirtenberg\, Nie
 derösterreich\, 2552\, Österreich
GEO:47.9309386;16.176530299999968
X-APPLE-STRUCTURED-LOCATION;VALUE=URI;X-ADDRESS=Leobersdorfer Straße 2\, H
 irtenberg\, Niederösterreich\, 2552\, Österreich;X-APPLE-RADIUS=100;X-TI
 TLE=Kulturhaus Hirtenberg:geo:47.9309386,16.176530299999968
END:VEVENT
BEGIN:VTIMEZONE
TZID:Europe/Vienna
X-LIC-LOCATION:Europe/Vienna
BEGIN:DAYLIGHT
DTSTART:20240331T030000
TZOFFSETFROM:+0100
TZOFFSETTO:+0200
TZNAME:CEST
END:DAYLIGHT
END:VTIMEZONE
END:VCALENDAR