BEGIN:VCALENDAR
VERSION:2.0
PRODID:-//wp-events-plugin.com//7.2.3.1//EN
TZID:Europe/Vienna
X-WR-TIMEZONE:Europe/Vienna
BEGIN:VEVENT
UID:98@sdtriestingtal.at
DTSTART;TZID=Europe/Vienna:20250405T190000
DTEND;TZID=Europe/Vienna:20250406T020000
DTSTAMP:20250107T222936Z
URL:https://www.sdtriestingtal.at/events/roter-nelken-ball-2025/
SUMMARY:Roter Nelken Ball 2025
DESCRIPTION:Tanzeinlage: Mitternachtseinlage Back to Love
CATEGORIES:Auftritt
LOCATION:Wiener Rathauskeller\, Rathausplatz 1\, Wien\, Wien\, 1010\, Öste
 rreich
GEO:48.2082647;16.37392060000002
X-APPLE-STRUCTURED-LOCATION;VALUE=URI;X-ADDRESS=Rathausplatz 1\, Wien\, Wie
 n\, 1010\, Österreich;X-APPLE-RADIUS=100;X-TITLE=Wiener Rathauskeller:geo
 :48.2082647,16.37392060000002
END:VEVENT
BEGIN:VTIMEZONE
TZID:Europe/Vienna
X-LIC-LOCATION:Europe/Vienna
BEGIN:DAYLIGHT
DTSTART:20250330T030000
TZOFFSETFROM:+0100
TZOFFSETTO:+0200
TZNAME:CEST
END:DAYLIGHT
END:VTIMEZONE
END:VCALENDAR