BEGIN:VCALENDAR
VERSION:2.0
PRODID:-//wp-events-plugin.com//7.2.3.1//EN
TZID:Europe/Vienna
X-WR-TIMEZONE:Europe/Vienna
BEGIN:VEVENT
UID:113@sdtriestingtal.at
DTSTART;TZID=Europe/Vienna:20260321T190000
DTEND;TZID=Europe/Vienna:20260322T020000
DTSTAMP:20260112T122252Z
URL:https://www.sdtriestingtal.at/events/roter-nelken-ball-2026/
SUMMARY:Roter Nelken Ball 2026
DESCRIPTION:Tanzeinlage: Mitternachtseinlage This is me
CATEGORIES:Auftritt
LOCATION:Wiener Rathauskeller\, Rathausplatz 1\, Wien\, Wien\, 1010\, Öste
 rreich
GEO:48.2082647;16.37392060000002
X-APPLE-STRUCTURED-LOCATION;VALUE=URI;X-ADDRESS=Rathausplatz 1\, Wien\, Wie
 n\, 1010\, Österreich;X-APPLE-RADIUS=100;X-TITLE=Wiener Rathauskeller:geo
 :48.2082647,16.37392060000002
END:VEVENT
BEGIN:VTIMEZONE
TZID:Europe/Vienna
X-LIC-LOCATION:Europe/Vienna
BEGIN:STANDARD
DTSTART:20251026T020000
TZOFFSETFROM:+0200
TZOFFSETTO:+0100
TZNAME:CET
END:STANDARD
END:VTIMEZONE
END:VCALENDAR