BEGIN:VCALENDAR
VERSION:2.0
PRODID:-//wp-events-plugin.com//7.2.3.1//EN
TZID:Europe/Vienna
X-WR-TIMEZONE:Europe/Vienna
BEGIN:VEVENT
UID:90@sdtriestingtal.at
DTSTART;TZID=Europe/Vienna:20240419T190000
DTEND;TZID=Europe/Vienna:20240419T210000
DTSTAMP:20240129T192833Z
URL:https://www.sdtriestingtal.at/events/schnuppertraining-2024/
SUMMARY:Schnuppertraining 2024
DESCRIPTION:Mehr Informationen
CATEGORIES:Schnuppertraining
LOCATION:Ferdinand Raimund Halle\, Hainfelder Straße 24\, Pottenstein\, Ni
 ederösterreich\, 2563\, Österreich
GEO:47.9611222;16.09429399999999
X-APPLE-STRUCTURED-LOCATION;VALUE=URI;X-ADDRESS=Hainfelder Straße 24\, Pot
 tenstein\, Niederösterreich\, 2563\, Österreich;X-APPLE-RADIUS=100;X-TIT
 LE=Ferdinand Raimund Halle:geo:47.9611222,16.09429399999999
END:VEVENT
BEGIN:VTIMEZONE
TZID:Europe/Vienna
X-LIC-LOCATION:Europe/Vienna
BEGIN:DAYLIGHT
DTSTART:20240331T030000
TZOFFSETFROM:+0100
TZOFFSETTO:+0200
TZNAME:CEST
END:DAYLIGHT
END:VTIMEZONE
END:VCALENDAR