BEGIN:VCALENDAR
VERSION:2.0
PRODID:-//wp-events-plugin.com//7.2.3.1//EN
TZID:Europe/Vienna
X-WR-TIMEZONE:Europe/Vienna
BEGIN:VEVENT
UID:101@sdtriestingtal.at
DTSTART;TZID=Europe/Vienna:20250220T160000
DTEND;TZID=Europe/Vienna:20250220T200000
DTSTAMP:20250107T222145Z
URL:https://www.sdtriestingtal.at/events/senioren-kraenzchen-pottenstein-2
 025/
SUMMARY:Senioren-Kränzchen Pottenstein 2025
DESCRIPTION:Beginn: 16:00\n\nTanzeinlage: Back to Love um 18:30
CATEGORIES:Auftritt
LOCATION:Gasthaus Riegler\, Feldgasse 4\, Pottenstein\, Niederösterreich\,
  2563\, Österreich
GEO:47.957266;16.095859
X-APPLE-STRUCTURED-LOCATION;VALUE=URI;X-ADDRESS=Feldgasse 4\, Pottenstein\,
  Niederösterreich\, 2563\, Österreich;X-APPLE-RADIUS=100;X-TITLE=Gasthau
 s Riegler:geo:47.957266,16.095859
END:VEVENT
BEGIN:VTIMEZONE
TZID:Europe/Vienna
X-LIC-LOCATION:Europe/Vienna
BEGIN:STANDARD
DTSTART:20241027T020000
TZOFFSETFROM:+0200
TZOFFSETTO:+0100
TZNAME:CET
END:STANDARD
END:VTIMEZONE
END:VCALENDAR