BEGIN:VCALENDAR
VERSION:2.0
PRODID:-//wp-events-plugin.com//7.2.3.1//EN
TZID:Europe/Vienna
X-WR-TIMEZONE:Europe/Vienna
BEGIN:VEVENT
UID:111@sdtriestingtal.at
DTSTART;TZID=Europe/Vienna:20260212T160000
DTEND;TZID=Europe/Vienna:20260212T200000
DTSTAMP:20260104T101446Z
URL:https://www.sdtriestingtal.at/events/senioren-kraenzchen-pottenstein-2
 026/
SUMMARY:Senioren-Kränzchen Pottenstein 2026
DESCRIPTION:Beginn: 16:00\n\nTanzeinlage: This is me um 19:00
CATEGORIES:Auftritt
LOCATION:Gasthaus Riegler\, Feldgasse 4\, Pottenstein\, Niederösterreich\,
  2563\, Österreich
GEO:47.957266;16.095859
X-APPLE-STRUCTURED-LOCATION;VALUE=URI;X-ADDRESS=Feldgasse 4\, Pottenstein\,
  Niederösterreich\, 2563\, Österreich;X-APPLE-RADIUS=100;X-TITLE=Gasthau
 s Riegler:geo:47.957266,16.095859
END:VEVENT
BEGIN:VTIMEZONE
TZID:Europe/Vienna
X-LIC-LOCATION:Europe/Vienna
BEGIN:STANDARD
DTSTART:20251026T020000
TZOFFSETFROM:+0200
TZOFFSETTO:+0100
TZNAME:CET
END:STANDARD
END:VTIMEZONE
END:VCALENDAR